BEGIN:VCALENDAR
PRODID;X-RICAL-TZSOURCE=TZINFO:-&#47;&#47;com.denhaven2&#47;NONSGML ri_cal gem&#47;&#47;EN
CALSCALE:GREGORIAN
VERSION:2.0
BEGIN:VEVENT
DTEND;VALUE=DATE:20220816
DTSTART;VALUE=DATE:20220816
DESCRIPTION:Top 5 reasons why you need math homework help is due on 08&#47;16
 &#47;22 (0 tickets)
SUMMARY:Milestone for Top 5 reasons why you need math homework help: Top 
 5 reasons why you need math homework help
LOCATION:https:&#47;&#47;matthewio.lighthouseapp.com&#47;projects&#47;158640&#47;milestones&#47;2
 41683-top-5-reasons-why-you-need-math-homework-help
END:VEVENT
BEGIN:VEVENT
DTEND;VALUE=DATE:20220818
DTSTART;VALUE=DATE:20220818
DESCRIPTION:5 tips that will help you do well on your next programming as
 signment is due on 08&#47;18&#47;22 (0 tickets)
SUMMARY:Milestone for 5 tips that will help you do well on your next prog
 ramming assignment: 5 tips that will help you do well on your next progr
 amming assignment
LOCATION:https:&#47;&#47;matthewio.lighthouseapp.com&#47;projects&#47;158671&#47;milestones&#47;2
 41686-5-tips-that-will-help-you-do-well-on-your-next-programming-assignm
 ent
END:VEVENT
BEGIN:VEVENT
DTEND;VALUE=DATE:20220818
DTSTART;VALUE=DATE:20220818
DESCRIPTION:Students\, Having trouble with your programming homework? We 
 can help! is due on 08&#47;18&#47;22 (0 tickets)
SUMMARY:Milestone for Students\, Having trouble with your programming hom
 ework? : Students\, Having trouble with your programming homework? We ca
 n help!
LOCATION:https:&#47;&#47;matthewio.lighthouseapp.com&#47;projects&#47;158670&#47;milestones&#47;2
 41685-students-having-trouble-with-your-programming-homework-we-can-help
END:VEVENT
BEGIN:VEVENT
DTEND;VALUE=DATE:20220822
DTSTART;VALUE=DATE:20220822
DESCRIPTION:5 Ways to Make Sure You Do Well on Your Next Programming Assi
 gnment is due on 08&#47;22&#47;22 (0 tickets)
SUMMARY:Milestone for 5 Ways to Make Sure You Do Well on Your Next : 5 Wa
 ys to Make Sure You Do Well on Your Next Programming Assignment
LOCATION:https:&#47;&#47;matthewio.lighthouseapp.com&#47;projects&#47;158700&#47;milestones&#47;2
 41689-5-ways-to-make-sure-you-do-well-on-your-next-programming-assignmen
 t
END:VEVENT
BEGIN:VEVENT
DTEND;VALUE=DATE:20220824
DTSTART;VALUE=DATE:20220824
DESCRIPTION:Programming Assignment Help: A Guide to Overcoming the Challe
 nges  is due on 08&#47;24&#47;22 (0 tickets)
SUMMARY:Milestone for Programming Assignment Help: A Guide to Overcoming 
 the Challenges : Programming Assignment Help: A Guide to Overcoming the 
 Challenges 
LOCATION:https:&#47;&#47;matthewio.lighthouseapp.com&#47;projects&#47;158726&#47;milestones&#47;2
 41693-programming-assignment-help-a-guide-to-overcoming-the-challenges
END:VEVENT
BEGIN:VEVENT
DTEND;VALUE=DATE:20220825
DTSTART;VALUE=DATE:20220825
DESCRIPTION:The Complete Guide to AI Writing Assistants and How They are 
 Disrupting Copywriting &amp; Content Creation is due on 08&#47;25&#47;22 (0 tickets)
SUMMARY:Milestone for The Complete Guide to AI Writing Assistants and How
  : The Complete Guide to AI Writing Assistants and How They are Disrupti
 ng Copywriting &amp; Content Creation
LOCATION:https:&#47;&#47;matthewio.lighthouseapp.com&#47;projects&#47;158737&#47;milestones&#47;2
 41696-the-complete-guide-to-ai-writing-assistants-and-how-they-are-disru
 pting-copywriting-content-creation
END:VEVENT
BEGIN:VEVENT
DTEND;VALUE=DATE:20220830
DTSTART;VALUE=DATE:20220830
DESCRIPTION:The 10 Best Web Content Writing Services For You is due on 08
 &#47;30&#47;22 (0 tickets)
SUMMARY:Milestone for Assignhelp: The 10 Best Web Content Writing Service
 s For You
LOCATION:https:&#47;&#47;matthewio.lighthouseapp.com&#47;projects&#47;158803&#47;milestones&#47;2
 41707-the-10-best-web-content-writing-services-for-you
END:VEVENT
BEGIN:VEVENT
DTEND;VALUE=DATE:20220830
DTSTART;VALUE=DATE:20220830
DESCRIPTION:The Complete Guide to A&#47;B Testing and How It&#39;s Impacting the 
 Assignment Help Industry is due on 08&#47;30&#47;22 (0 tickets)
SUMMARY:Milestone for The Complete Guide to A&#47;B Testing and How It&#39;s : Th
 e Complete Guide to A&#47;B Testing and How It&#39;s Impacting the Assignment He
 lp Industry
LOCATION:https:&#47;&#47;matthewio.lighthouseapp.com&#47;projects&#47;158799&#47;milestones&#47;2
 41706-the-complete-guide-to-ab-testing-and-how-its-impacting-the-assignm
 ent-help-industry
END:VEVENT
BEGIN:VEVENT
DTEND;VALUE=DATE:20220903
DTSTART;VALUE=DATE:20220903
DESCRIPTION:The Complete Guide to Domypapers and Why You Should Care Abou
 t Them is due on 09&#47;03&#47;22 (0 tickets)
SUMMARY:Milestone for The Complete Guide to Domypapers and Why You Should
  Care About Them: The Complete Guide to Domypapers and Why You Should Ca
 re About Them
LOCATION:https:&#47;&#47;matthewio.lighthouseapp.com&#47;projects&#47;158850&#47;milestones&#47;2
 41712-the-complete-guide-to-domypapers-and-why-you-should-care-about-the
 m
END:VEVENT
BEGIN:VEVENT
DTEND;VALUE=DATE:20220905
DTSTART;VALUE=DATE:20220905
DESCRIPTION:The Best Custom Writing Review 2022 is due on 09&#47;05&#47;22 (0 tic
 kets)
SUMMARY:Milestone for The Best Custom Writing Review 2022: The Best Custo
 m Writing Review 2022
LOCATION:https:&#47;&#47;matthewio.lighthouseapp.com&#47;projects&#47;158864&#47;milestones&#47;2
 41713-the-best-custom-writing-review-2022
END:VEVENT
BEGIN:VEVENT
DTEND;VALUE=DATE:20220906
DTSTART;VALUE=DATE:20220906
DESCRIPTION:How You Can Be Effective While Attempting To Stability Your L
 ife &amp; Work is due on 09&#47;06&#47;22 (0 tickets)
SUMMARY:Milestone for How You Can Be Effective While Attempting To Stabil
 ity Your Life &amp; Work: How You Can Be Effective While Attempting To Stabi
 lity Your Life &amp; Work
LOCATION:https:&#47;&#47;matthewio.lighthouseapp.com&#47;projects&#47;158880&#47;milestones&#47;2
 41719-how-you-can-be-effective-while-attempting-to-stability-your-life-w
 ork
END:VEVENT
BEGIN:VEVENT
DTEND;VALUE=DATE:20220907
DTSTART;VALUE=DATE:20220907
DESCRIPTION:An Extensive Guide to Fastessay com Evaluation and The Way It
  Works is due on 09&#47;07&#47;22 (0 tickets)
SUMMARY:Milestone for An Extensive Guide to Fastessay com Evaluation and 
 The Way It Works: An Extensive Guide to Fastessay com Evaluation and The
  Way It Works
LOCATION:https:&#47;&#47;matthewio.lighthouseapp.com&#47;projects&#47;158896&#47;milestones&#47;2
 41726-an-extensive-guide-to-fastessay-com-evaluation-and-the-way-it-work
 s
END:VEVENT
BEGIN:VEVENT
DTEND;VALUE=DATE:20220907
DTSTART;VALUE=DATE:20220907
DESCRIPTION:What is a &quot;Advanced Writer&quot; and How Does the Platform Work? i
 s due on 09&#47;07&#47;22 (0 tickets)
SUMMARY:Milestone for What is a &quot;Advanced Writer&quot; and How Does the Platfo
 rm Work?: What is a &quot;Advanced Writer&quot; and How Does the Platform Work?
LOCATION:https:&#47;&#47;matthewio.lighthouseapp.com&#47;projects&#47;158895&#47;milestones&#47;2
 41724-what-is-a-advanced-writer-and-how-does-the-platform-work
END:VEVENT
BEGIN:VEVENT
DTEND;VALUE=DATE:20220912
DTSTART;VALUE=DATE:20220912
DESCRIPTION:What exactly are Essay Domypapers.com Testimonials and What’s
  the objective of Producing? is due on 09&#47;12&#47;22 (0 tickets)
SUMMARY:Milestone for What exactly are Essay Domypapers.com Testimonials 
 and What’s the objective of Producing?: What exactly are Essay Domypaper
 s.com Testimonials and What’s the objective of Producing?
LOCATION:https:&#47;&#47;matthewio.lighthouseapp.com&#47;projects&#47;158951&#47;milestones&#47;2
 41733-what-exactly-are-essay-domypaperscom-testimonials-and-whats-the-ob
 jective-of-producing
END:VEVENT
BEGIN:VEVENT
DTEND;VALUE=DATE:20220913
DTSTART;VALUE=DATE:20220913
DESCRIPTION:Precisely what is AdvancedWriters? Does AdvancedWriters Work?
  is due on 09&#47;13&#47;22 (0 tickets)
SUMMARY:Milestone for Precisely what is AdvancedWriters? Does AdvancedWri
 ters Work?: Precisely what is AdvancedWriters? Does AdvancedWriters Work
 ?
LOCATION:https:&#47;&#47;matthewio.lighthouseapp.com&#47;projects&#47;158958&#47;milestones&#47;2
 41736-precisely-what-is-advancedwriters-does-advancedwriters-work
END:VEVENT
END:VCALENDAR
